BEGIN:VCALENDAR
VERSION:2.0
PRODID:-//Programa de mentorías universitarias &quot;Amentúrate&quot; - ECPv6.15.20//NONSGML v1.0//EN
CALSCALE:GREGORIAN
METHOD:PUBLISH
X-WR-CALNAME:Programa de mentorías universitarias &quot;Amentúrate&quot;
X-ORIGINAL-URL:https://amenturate.unican.es
X-WR-CALDESC:Eventos para Programa de mentorías universitarias &quot;Amentúrate&quot;
REFRESH-INTERVAL;VALUE=DURATION:PT1H
X-Robots-Tag:noindex
X-PUBLISHED-TTL:PT1H
BEGIN:VTIMEZONE
TZID:Europe/Madrid
BEGIN:DAYLIGHT
TZOFFSETFROM:+0100
TZOFFSETTO:+0200
TZNAME:CEST
DTSTART:20170326T010000
END:DAYLIGHT
BEGIN:STANDARD
TZOFFSETFROM:+0200
TZOFFSETTO:+0100
TZNAME:CET
DTSTART:20171029T010000
END:STANDARD
BEGIN:DAYLIGHT
TZOFFSETFROM:+0100
TZOFFSETTO:+0200
TZNAME:CEST
DTSTART:20180325T010000
END:DAYLIGHT
BEGIN:STANDARD
TZOFFSETFROM:+0200
TZOFFSETTO:+0100
TZNAME:CET
DTSTART:20181028T010000
END:STANDARD
BEGIN:DAYLIGHT
TZOFFSETFROM:+0100
TZOFFSETTO:+0200
TZNAME:CEST
DTSTART:20190331T010000
END:DAYLIGHT
BEGIN:STANDARD
TZOFFSETFROM:+0200
TZOFFSETTO:+0100
TZNAME:CET
DTSTART:20191027T010000
END:STANDARD
END:VTIMEZONE
BEGIN:VTIMEZONE
TZID:UTC
BEGIN:STANDARD
TZOFFSETFROM:+0000
TZOFFSETTO:+0000
TZNAME:UTC
DTSTART:20170101T000000
END:STANDARD
END:VTIMEZONE
BEGIN:VEVENT
DTSTART;TZID=Europe/Madrid:20181107T180000
DTEND;TZID=Europe/Madrid:20181107T200000
DTSTAMP:20260422T042247
CREATED:20180927T131644Z
LAST-MODIFIED:20180927T131644Z
UID:779-1541613600-1541620800@amenturate.unican.es
SUMMARY:Sensor de glucosa con "luz propia"
DESCRIPTION:Diseñar un sensor que mida la cantidad de glucosa en una disolución. Primero se describirá brevemente el efecto óptico de la polarización\, efecto a partir del cual se base el diseño del sensor propuesto. A los estudiantes según lo explicado\, se les propondrá como reto el diseño y verificación experimental de un sensor de glucosa siguiendo el método científico: Observación\, Formulación de hipótesis\, Experimentación y Conclusiones.
URL:https://amenturate.unican.es/evento/sensor-de-glucosa-con-luz-propia/
LOCATION:Aula Teórico Experimental E.T.S.I.I.T. Planta -4 Escalera A\, puerta S4\,80\, Escuela Técnica Superior de Ingeniería Indrustrial y de Telecomunicaciones. Avd Los castros s/n\, Santander\, Cantabria\, 39005\, España
END:VEVENT
BEGIN:VEVENT
DTSTART;TZID=UTC:20181109T170000
DTEND;TZID=UTC:20181109T190000
DTSTAMP:20260422T042247
CREATED:20180828T061911Z
LAST-MODIFIED:20181024T112450Z
UID:589-1541782800-1541790000@amenturate.unican.es
SUMMARY:Taller de expresión y creación musical
DESCRIPTION:El objetivo principal es disfrutar haciendo música y para ello la dinámica general del taller consistirá en reunirse\, casi se podría decir como en una reunión de amigos\, en la que cada uno pueda elegir cómo desea participar\, de manera que todos se sientan a gusto. Y además\, que puedan elegir sobre qué músicas concretas o qué tipos de músicas abordar la interpretación y el proyecto de creación musical. \nEste taller consta de dos sesiones: una el día 9 de noviembre\, de 17 a 20h y otra el viernes día 16 de noviembre de 17 a 20h
URL:https://amenturate.unican.es/evento/taller-de-expresion-y-creacion-musical/
LOCATION:Aula de Música del Edificio Interfacultativo de la Universidad de Cantabria\, Avd. de Los Castros\, 52\, Santander\, Cantabria\, 39005\, España
END:VEVENT
BEGIN:VEVENT
DTSTART;TZID=Europe/Madrid:20181116T170000
DTEND;TZID=Europe/Madrid:20181116T200000
DTSTAMP:20260422T042247
CREATED:20181024T112557Z
LAST-MODIFIED:20181024T112557Z
UID:846-1542387600-1542398400@amenturate.unican.es
SUMMARY:Taller de expresión y creación musical (2)
DESCRIPTION:l objetivo principal es disfrutar haciendo música y para ello la dinámica general del taller consistirá en reunirse\, casi se podría decir como en una reunión de amigos\, en la que cada uno pueda elegir cómo desea participar\, de manera que todos se sientan a gusto. Y además\, que puedan elegir sobre qué músicas concretas o qué tipos de músicas abordar la interpretación y el proyecto de creación musical. \nEste taller consta de dos sesiones: una el día 9 de noviembre\, de 17 a 20h y otra el viernes día 16 de noviembre de 17 a 20h
URL:https://amenturate.unican.es/evento/taller-de-expresion-y-creacion-musical-2/
LOCATION:Aula de Música del Edificio Interfacultativo de la Universidad de Cantabria\, Avd. de Los Castros\, 52\, Santander\, Cantabria\, 39005\, España
END:VEVENT
BEGIN:VEVENT
DTSTART;TZID=Europe/Madrid:20181127T160000
DTEND;TZID=Europe/Madrid:20181127T190000
DTSTAMP:20260422T042247
CREATED:20181024T112400Z
LAST-MODIFIED:20181024T112400Z
UID:842-1543334400-1543345200@amenturate.unican.es
SUMMARY:Informática: enseñar a las máquinas a calcular\, pensar\, hacer y aprender (parte 2)
DESCRIPTION:Vamos a presentar en un rápido viaje\, desde las bases de la programación hasta la robótica\, pasando por cálculos y operaciones variadas\, resolución de problemas\, música\, gráficos e incluso páginas Web\, como las que ves en Internet. Haremos una introducción a Python\, HTML\, Javascript\, … \nEl Taller consta de dos sesiones\, los días martes jueves 22 y martes 27 de noviembre de 16 a 19h
URL:https://amenturate.unican.es/evento/informatica-ensenar-a-las-maquinas-a-calcular-pensar-hacer-y-aprender-parte-2/
END:VEVENT
END:VCALENDAR