BEGIN:VCALENDAR
VERSION:2.0
PRODID:-//Programa de mentorías universitarias &quot;Amentúrate&quot; - ECPv6.15.20//NONSGML v1.0//EN
CALSCALE:GREGORIAN
METHOD:PUBLISH
X-ORIGINAL-URL:https://amenturate.unican.es
X-WR-CALDESC:Eventos para Programa de mentorías universitarias &quot;Amentúrate&quot;
REFRESH-INTERVAL;VALUE=DURATION:PT1H
X-Robots-Tag:noindex
X-PUBLISHED-TTL:PT1H
BEGIN:VTIMEZONE
TZID:UTC
BEGIN:STANDARD
TZOFFSETFROM:+0000
TZOFFSETTO:+0000
TZNAME:UTC
DTSTART:20170101T000000
END:STANDARD
END:VTIMEZONE
BEGIN:VEVENT
DTSTART;TZID=UTC:20181019T200000
DTEND;TZID=UTC:20181019T220000
DTSTAMP:20260422T060455
CREATED:20180822T061504Z
LAST-MODIFIED:20181002T103610Z
UID:374-1539979200-1539986400@amenturate.unican.es
SUMMARY:Taller "explorando el universo" (2 parte)
DESCRIPTION:En la segunda sesión\, pendiente de confirmar el día dependiendo de la meteorología\,  se abordará la observación astronómica desde el punto de vista práctico\, mostrando el manejo de telescopios como los que usan los astrónomos amateur\, y se comentarán las aportaciones científicas que pueden hacerse incluso con equipos pequeños o medianos. Además\, si el tiempo lo permite\, se realizarán observaciones de Saturno\, Marte y otros objetos celestes.
URL:https://amenturate.unican.es/evento/taller-explorando-el-universo-2-parte/
LOCATION:sala de reuniones “Galileo Galilei” Instituto de Física de Cantabria\, Av. de los Castros\, s/n\, Santander\, Cantabria\, 30005\, España
END:VEVENT
END:VCALENDAR