BEGIN:VCALENDAR
VERSION:2.0
PRODID:-//Programa de mentorías universitarias &quot;Amentúrate&quot; - ECPv6.15.20//NONSGML v1.0//EN
CALSCALE:GREGORIAN
METHOD:PUBLISH
X-ORIGINAL-URL:https://amenturate.unican.es
X-WR-CALDESC:Eventos para Programa de mentorías universitarias &quot;Amentúrate&quot;
REFRESH-INTERVAL;VALUE=DURATION:PT1H
X-Robots-Tag:noindex
X-PUBLISHED-TTL:PT1H
BEGIN:VTIMEZONE
TZID:UTC
BEGIN:STANDARD
TZOFFSETFROM:+0000
TZOFFSETTO:+0000
TZNAME:UTC
DTSTART:20170101T000000
END:STANDARD
END:VTIMEZONE
BEGIN:VEVENT
DTSTART;VALUE=DATE:20180914
DTEND;VALUE=DATE:20180917
DTSTAMP:20260422T075357
CREATED:20180828T063539Z
LAST-MODIFIED:20180828T063539Z
UID:595-1536883200-1537142399@amenturate.unican.es
SUMMARY:I Congreso Internacional Noroeste de Altas Capacidades: Retos en el Siglo XXI.
DESCRIPTION:
URL:https://amenturate.unican.es/evento/i-congreso-internacional-noroeste-de-altas-capacidades-retos-en-el-siglo-xxi/
LOCATION:Palacio de Congresos\, Santiago de Compostela\, Rúa de Miguel Ferro Caaveiro\, s/n\, Santiago de Compostela\, A Coruña\, 15707\, España
END:VEVENT
BEGIN:VEVENT
DTSTART;TZID=UTC:20180919T160000
DTEND;TZID=UTC:20180919T200000
DTSTAMP:20260422T075357
CREATED:20180828T063914Z
LAST-MODIFIED:20180828T063925Z
UID:599-1537372800-1537387200@amenturate.unican.es
SUMMARY:I Jornadas Científicas de Mentorías y Altas Capacidades
DESCRIPTION:Jornada Científica que aborda la temática del alumnado con altas capacidades y del valor de las mentorías en su desarrollo. Una propuesta actual que permitirá dar voz al alumnado\, familiares\, profesionales e investigadores en el campo. A partir del conocimiento de cómo está la situación de las altas capacidades a nivel nacional y regional en formato charla-coloquio\, se proponen dos sesiones formativas en paralelo. Por un lado\, se trata de abordar qué ocurre en la etapa de la adolescencia con el alumnado con altas capacidades y\, por otro\, presentar a los futuros estudiantes participantes del programa y sus familiares los fundamentos científicos del programa así como el diseño final del mismo. Se aprovechará también el evento para dar a conocer qué otras actividades científicas y culturales ofrece la UC de cara a la comunidad de Cantabria y la riqueza que puede aportar su\nparticipación en la vida universitaria.
URL:https://amenturate.unican.es/evento/i-jornadas-cientificas-de-mentorias-y-altas-capacidades/
LOCATION:Espacio social de aprendizaje\, Edificio Tres Torres\, Torre A\,  planta -3\, Avd. Los Castros\, 52\, Santander\, Cantabria\, 39005\, España
END:VEVENT
BEGIN:VEVENT
DTSTART;VALUE=DATE:20180928
DTEND;VALUE=DATE:20180929
DTSTAMP:20260422T075357
CREATED:20180828T064236Z
LAST-MODIFIED:20180828T064236Z
UID:603-1538092800-1538179199@amenturate.unican.es
SUMMARY:Noche europea de los Investigadores 2018
DESCRIPTION:​¿Te gustaría convertirte en científico por un día? ¿Conocer el método científico? ¿Acercarte a laboratorios e instalaciones de la UC? ¿Saber de primera mano qué hacen nuestros investigadores? ¿Descubrir los principios básicos del fuego o cómo se comportan los metales? ¿Aprender a determinar la edad en los peces? ¿Identificar personas por su perfil de ADN? ​​¿Jugar con la luz? ¿Mirar a las estrellas? ¿Reirte a carcajadas con científicos de la UC?\n\n\n\n\n\n 
URL:https://amenturate.unican.es/evento/noche-europea-de-los-investigadores-2018/
LOCATION:Cámara de Comercio\, Plaza Porticada s7n\, Santander\, Cantabria\, 39003\, España
END:VEVENT
END:VCALENDAR